BEGIN:VCALENDAR
VERSION:2.0
PRODID:spatie/icalendar-generator
DESCRIPTION:Events from dadamemphis.com
X-WR-CALDESC:Events from dadamemphis.com
REFRESH-INTERVAL;VALUE=DURATION:PT1440M
X-PUBLISHED-TTL:PT1440M
BEGIN:VTIMEZONE
TZID:Europe/Madrid
BEGIN:DAYLIGHT
DTSTART:20240331T020000Z
TZOFFSETFROM:+0100
TZOFFSETTO:+0200
END:DAYLIGHT
BEGIN:STANDARD
DTSTART:20241027T030000Z
TZOFFSETFROM:+0200
TZOFFSETTO:+0100
END:STANDARD
BEGIN:DAYLIGHT
DTSTART:20250330T020000Z
TZOFFSETFROM:+0100
TZOFFSETTO:+0200
END:DAYLIGHT
END:VTIMEZONE
BEGIN:VTIMEZONE
TZID:UTC
BEGIN:STANDARD
DTSTART:20250728T131405Z
TZOFFSETFROM:+0000
TZOFFSETTO:+0000
END:STANDARD
END:VTIMEZONE
BEGIN:VEVENT
UID:9-9
DTSTAMP:20260424T131405Z
SUMMARY:Black Light Gospel Choir
LOCATION:Malaga
ORGANIZER;CN=Dada Memphis:MAILTO:dadamemphismusic@gmail.com
DTSTART;TZID=Europe/Madrid;VALUE=DATE:20241129
DTEND;TZID=Europe/Madrid;VALUE=DATE:20241130
X-ALT-DESC;FMTTYPE=TEXT/HTML:<p>Encendido de las luces de Navidad. Málaga.
 </p>\n
CATEGORIES:Live!
URL;VALUE=URI:https://dadamemphis.com/mc-events/black-light-gospel-choir/
METHOD:PUBLISH
END:VEVENT
END:VCALENDAR